BEGIN:VCALENDAR
VERSION:2.0
PRODID:-//ChamberMaster//Event Calendar 2.0//EN
METHOD:PUBLISH
X-PUBLISHED-TTL:P3D
REFRESH-INTERVAL:P3D
CALSCALE:GREGORIAN
BEGIN:VEVENT
DTSTART:20170218T233000Z
DTEND:20170219T040000Z
X-MICROSOFT-CDO-ALLDAYEVENT:FALSE
SUMMARY:5th Annual Heart for Children\, Heart for Chocolate Gala benefiting Piedmont CASA
DESCRIPTION:You are cordially invited to attend Piedmont CASA's Heart for Children\, Heart for Chocolate Gala.  The food is going to be fantastic-delicious steak\, potatoes and veggies. Our band\, The Fly Betty Band\, is going to knock the socks off everyone attending. You can't beat an open bar nor can you beat the fantastic MC we have in Theresa Kenerly. She is funny and engaging and I cannot wait to see her in action again this year. Nathan Cagle is the fastest talking auctioneer around and he will keep us in stitches as he encourages folks to bid with their hearts.  And the chocolate....ohhh the delicious chocolate...what more needs to be said? It's a great cause and great night of fun so grab your sweetheart and a friend and come dance the night away.
X-ALT-DESC;FMTTYPE=text/html:<span style="color:rgb(0\, 0\, 0)\; font-family:verdana\; font-size:13.3333px">You are cordially invited to attend Piedmont CASA&#39\;s Heart for Children\, Heart for Chocolate Gala. &nbsp\;The food is going to be fantastic-delicious steak\, potatoes and veggies. Our band\, The Fly Betty Band\, is going to knock the socks off everyone attending. You&nbsp\;</span><span style="color:rgb(0\, 0\, 0)\; font-family:verdana\; font-size:13.3333px">can</span><span style="color:rgb(0\, 0\, 0)\; font-family:verdana\; font-size:13.3333px">&#39\;t beat an open bar nor&nbsp\;</span><span style="color:rgb(0\, 0\, 0)\; font-family:verdana\; font-size:13.3333px">can</span><span style="color:rgb(0\, 0\, 0)\; font-family:verdana\; font-size:13.3333px">&nbsp\;you beat the fantastic MC we have in Theresa Kenerly. She is funny and engaging and I cannot wait to see her in action again this year. Nathan Cagle is the fastest talking auctioneer around and he will keep us in stitches as he encourages folks to bid with their hearts.&nbsp\;</span><span style="color:rgb(0\, 0\, 0)\; font-family:verdana\; font-size:13.3333px">&nbsp\;And the chocolate....ohhh the delicious chocolate...what more needs to be said? It&#39\;s a great cause and great night of fun so grab your sweetheart and a friend and come dance the night away.</span>
LOCATION:Jefferson Civic Center 65 Kissam Street Jefferson GA 30549
UID:e.363.6903
SEQUENCE:3
DTSTAMP:20260420T010910Z
URL:https://business.barrowchamber.com/events/details/5th-annual-heart-for-children-heart-for-chocolate-gala-benefiting-piedmont-casa-6903
END:VEVENT

END:VCALENDAR
