BEGIN:VCALENDAR
VERSION:2.0
PRODID:-//ChamberMaster//Event Calendar 2.0//EN
METHOD:PUBLISH
X-PUBLISHED-TTL:P3D
REFRESH-INTERVAL:P3D
CALSCALE:GREGORIAN
BEGIN:VEVENT
DTSTART:20170411T154500Z
DTEND:20170411T170000Z
X-MICROSOFT-CDO-ALLDAYEVENT:FALSE
SUMMARY:April Membership Meeting
DESCRIPTION:April Membership Meeting\n\nThe Barrow County Chamber presents a special 1st Tuesday Luncheon on April  11th.  Come to hear the leaders of Barrow County and the cities within\, as they deliver the State of the Community address\, presented by AT&T.
X-ALT-DESC;FMTTYPE=text/html:April Membership Meeting<br />\n<span style="font-family:calibri\,sans-serif\;"><span style="font-size:11.0pt\;">The Barrow County Chamber presents a special 1<sup>st</sup> Tuesday Luncheon on April&nbsp\; 11<sup>th</sup>.&nbsp\; Come to hear the leaders of Barrow County and the cities within\, as they deliver the State of the Community address\, presented by AT&amp\;T.</span></span><br />\n&nbsp\;
LOCATION:Barrow County Leisure Services Blgd 175 Second Street
UID:e.363.6934
SEQUENCE:3
DTSTAMP:20260419T215829Z
URL:https://business.barrowchamber.com/events/details/april-membership-meeting-6934
END:VEVENT

END:VCALENDAR
