BEGIN:VCALENDAR
VERSION:2.0
PRODID:-//ChamberMaster//Event Calendar 2.0//EN
METHOD:PUBLISH
X-PUBLISHED-TTL:P3D
REFRESH-INTERVAL:P3D
CALSCALE:GREGORIAN
BEGIN:VEVENT
DTSTART:20170203T140000Z
DTEND:20170203T150000Z
X-MICROSOFT-CDO-ALLDAYEVENT:FALSE
SUMMARY:B.O.B.
DESCRIPTION:B.O.B -Greg Davis with the City of Winder\n\nwill be Teaching us all about how to detect fake bills\,\n\nCounterfeit Money\, Theft and Robbery Prevention\,
X-ALT-DESC;FMTTYPE=text/html:B.O.B -Greg Davis with the City of Winder<br />\nwill be Teaching us all about how to detect fake bills\,<br />\nCounterfeit Money\, Theft and Robbery Prevention\,
LOCATION:Chamber Office #6 Porter Street
UID:e.363.5336
SEQUENCE:3
DTSTAMP:20260420T010038Z
URL:https://business.barrowchamber.com/events/details/b-o-b-02-03-2017-5336
END:VEVENT

END:VCALENDAR
