BEGIN:VCALENDAR
VERSION:2.0
PRODID:-//ChamberMaster//Event Calendar 2.0//EN
METHOD:PUBLISH
X-PUBLISHED-TTL:P3D
REFRESH-INTERVAL:P3D
CALSCALE:GREGORIAN
BEGIN:VEVENT
DTSTART:20170303T140000Z
DTEND:20170303T150000Z
X-MICROSOFT-CDO-ALLDAYEVENT:FALSE
SUMMARY:B.O.B.
DESCRIPTION:B.O.B. Business over Breakfast\n\nSpeaker: Jerry Stapleton Principle of Winder Elementary
X-ALT-DESC;FMTTYPE=text/html:B.O.B. Business over Breakfast<br />\nSpeaker: Jerry Stapleton Principle of Winder Elementary<br />\n&nbsp\;
LOCATION:Chamber Office #6 Porter Street
UID:e.363.5340
SEQUENCE:3
DTSTAMP:20260420T010037Z
URL:https://business.barrowchamber.com/events/details/b-o-b-03-03-2017-5340
END:VEVENT

END:VCALENDAR
