BEGIN:VCALENDAR
VERSION:2.0
PRODID:-//ChamberMaster//Event Calendar 2.0//EN
METHOD:PUBLISH
X-PUBLISHED-TTL:P3D
REFRESH-INTERVAL:P3D
CALSCALE:GREGORIAN
BEGIN:VEVENT
DTSTART:20170505T130000Z
DTEND:20170505T140000Z
X-MICROSOFT-CDO-ALLDAYEVENT:FALSE
SUMMARY:B.O.B Business of Breakfast
DESCRIPTION:B.O.B\n\nGuest Speaker: Teri Everett with Logo Surfing\n\nTips on Marketing
X-ALT-DESC;FMTTYPE=text/html:B.O.B<br />\nGuest Speaker: Teri Everett with Logo Surfing<br />\nTips on Marketing
LOCATION:Chamber Office #6 Porter Street
UID:e.363.5349
SEQUENCE:3
DTSTAMP:20260419T203510Z
URL:https://business.barrowchamber.com/events/details/b-o-b-business-of-breakfast-5349
END:VEVENT

END:VCALENDAR
