BEGIN:VCALENDAR
VERSION:2.0
PRODID:-//ChamberMaster//Event Calendar 2.0//EN
METHOD:PUBLISH
X-PUBLISHED-TTL:P3D
REFRESH-INTERVAL:P3D
CALSCALE:GREGORIAN
BEGIN:VEVENT
DTSTART;VALUE=DATE:20170629
DTEND;VALUE=DATE:20170630
TRANSP:TRANSPARENT
X-MICROSOFT-CDO-ALLDAYEVENT:TRUE
SUMMARY:BRANDBANK Business after Hours
DESCRIPTION:BRANDBANK Business after Hours
X-ALT-DESC;FMTTYPE=text/html:BRANDBANK Business after Hours
LOCATION:BRANDBANK new Location 76 N. Broad Street
UID:e.363.6946
SEQUENCE:3
DTSTAMP:20260419T203550Z
URL:https://business.barrowchamber.com/events/details/brandbank-business-after-hours-6946
END:VEVENT

END:VCALENDAR
