BEGIN:VCALENDAR
VERSION:2.0
PRODID:-//ChamberMaster//Event Calendar 2.0//EN
METHOD:PUBLISH
X-PUBLISHED-TTL:P3D
REFRESH-INTERVAL:P3D
CALSCALE:GREGORIAN
BEGIN:VEVENT
DTSTART:20170427T210000Z
DTEND:20170427T230000Z
X-MICROSOFT-CDO-ALLDAYEVENT:FALSE
SUMMARY:Business after Hours - 1947 Waterside
DESCRIPTION:Business after Hours\n\n1947 Waterside - Event Center
X-ALT-DESC;FMTTYPE=text/html:Business after Hours<br />\n1947 Waterside - Event Center
LOCATION:1947 Waterside Dr. Bethlehem\, Ga.
UID:e.363.6931
SEQUENCE:3
DTSTAMP:20260419T221137Z
URL:https://business.barrowchamber.com/events/details/business-after-hours-1947-waterside-6931
END:VEVENT

END:VCALENDAR
