BEGIN:VCALENDAR
VERSION:2.0
PRODID:-//ChamberMaster//Event Calendar 2.0//EN
METHOD:PUBLISH
X-PUBLISHED-TTL:P3D
REFRESH-INTERVAL:P3D
CALSCALE:GREGORIAN
BEGIN:VEVENT
DTSTART:20160512T211500Z
DTEND:20160512T223000Z
X-MICROSOFT-CDO-ALLDAYEVENT:FALSE
SUMMARY:Business after Hours - BRMC-
DESCRIPTION:Barrow Regional Medical Center at 316
X-ALT-DESC;FMTTYPE=text/html:Barrow Regional Medical Center at 316
LOCATION:426 Exchange Blvd\, Suite 600 (Next to Carmike Theater and Longhorn\, Off Hwy 316
UID:e.363.5872
SEQUENCE:3
DTSTAMP:20260420T144952Z
URL:https://business.barrowchamber.com/events/details/business-after-hours-brmc-05-12-2016-5872
END:VEVENT

END:VCALENDAR
