BEGIN:VCALENDAR
VERSION:2.0
PRODID:-//ChamberMaster//Event Calendar 2.0//EN
METHOD:PUBLISH
X-PUBLISHED-TTL:P3D
REFRESH-INTERVAL:P3D
CALSCALE:GREGORIAN
BEGIN:VEVENT
DTSTART:20170601T210000Z
DTEND:20170601T230000Z
X-MICROSOFT-CDO-ALLDAYEVENT:FALSE
SUMMARY:Business after Hours - Gateway Gardens
DESCRIPTION:Business after Hours\n\nGateway Gardens\, LLC
X-ALT-DESC;FMTTYPE=text/html:Business after Hours<br />\nGateway Gardens\, LLC<br />\n&nbsp\;
LOCATION:138 Gateway Lane Bethlehem\, Ga. 678-963-5828
UID:e.363.6948
SEQUENCE:3
DTSTAMP:20260419T203136Z
URL:https://business.barrowchamber.com/events/details/business-after-hours-gateway-gardens-6948
END:VEVENT

END:VCALENDAR
