BEGIN:VCALENDAR
VERSION:2.0
PRODID:-//ChamberMaster//Event Calendar 2.0//EN
METHOD:PUBLISH
X-PUBLISHED-TTL:P3D
REFRESH-INTERVAL:P3D
CALSCALE:GREGORIAN
BEGIN:VEVENT
DTSTART;VALUE=DATE:20160825
DTEND;VALUE=DATE:20160826
TRANSP:TRANSPARENT
X-MICROSOFT-CDO-ALLDAYEVENT:TRUE
SUMMARY:Business after Hours - Strickland and Lindsey
DESCRIPTION:Business after Hours
X-ALT-DESC;FMTTYPE=text/html:Business after Hours
LOCATION:
UID:e.363.5896
SEQUENCE:3
DTSTAMP:20260420T120331Z
URL:https://business.barrowchamber.com/events/details/business-after-hours-strickland-and-lindsey-08-25-2016-5896
END:VEVENT

END:VCALENDAR
