BEGIN:VCALENDAR
VERSION:2.0
PRODID:-//ChamberMaster//Event Calendar 2.0//EN
METHOD:PUBLISH
X-PUBLISHED-TTL:P3D
REFRESH-INTERVAL:P3D
CALSCALE:GREGORIAN
BEGIN:VEVENT
DTSTART:20161020T210000Z
DTEND:20161020T220000Z
X-MICROSOFT-CDO-ALLDAYEVENT:FALSE
SUMMARY:Business after Hours - Strickland and Lindsey
DESCRIPTION:Business after Hours\n\nStrickland and Lindsay
X-ALT-DESC;FMTTYPE=text/html:Business after Hours<br />\nStrickland and Lindsay
LOCATION:
UID:e.363.6889
SEQUENCE:3
DTSTAMP:20260420T070717Z
URL:https://business.barrowchamber.com/events/details/business-after-hours-strickland-and-lindsey-6889
END:VEVENT

END:VCALENDAR
