BEGIN:VCALENDAR
VERSION:2.0
PRODID:-//ChamberMaster//Event Calendar 2.0//EN
METHOD:PUBLISH
X-PUBLISHED-TTL:P3D
REFRESH-INTERVAL:P3D
CALSCALE:GREGORIAN
BEGIN:VEVENT
DTSTART:20161110T220000Z
DTEND:20161111T000000Z
X-MICROSOFT-CDO-ALLDAYEVENT:FALSE
SUMMARY:Business after Hours - Total Transformation Dental and Spa
DESCRIPTION:Business after Hours and a Ribbon Cutting\n\nTotal Transformation Dental and Spa
X-ALT-DESC;FMTTYPE=text/html:Business after Hours and a Ribbon Cutting<br />\nTotal Transformation Dental and Spa
LOCATION:152 N. Broad Street\, Winder
UID:e.363.6894
SEQUENCE:3
DTSTAMP:20260420T053136Z
URL:https://business.barrowchamber.com/events/details/business-after-hours-total-transformation-dental-and-spa-6894
END:VEVENT

END:VCALENDAR
