BEGIN:VCALENDAR
VERSION:2.0
PRODID:-//ChamberMaster//Event Calendar 2.0//EN
METHOD:PUBLISH
X-PUBLISHED-TTL:P3D
REFRESH-INTERVAL:P3D
CALSCALE:GREGORIAN
BEGIN:VEVENT
DTSTART:20161007T130000Z
DTEND:20161007T140000Z
X-MICROSOFT-CDO-ALLDAYEVENT:FALSE
SUMMARY:Business over Breakfast
DESCRIPTION:Network Barrow
X-ALT-DESC;FMTTYPE=text/html:Network Barrow
LOCATION:Chamber Office #6 Porter Street
UID:e.363.5319
SEQUENCE:3
DTSTAMP:20260420T064756Z
URL:https://business.barrowchamber.com/events/details/business-over-breakfast-10-07-2016-5319
END:VEVENT

END:VCALENDAR
