BEGIN:VCALENDAR
VERSION:2.0
PRODID:-//ChamberMaster//Event Calendar 2.0//EN
METHOD:PUBLISH
X-PUBLISHED-TTL:P3D
REFRESH-INTERVAL:P3D
CALSCALE:GREGORIAN
BEGIN:VEVENT
DTSTART:20160508T140000Z
DTEND:20160508T180000Z
X-MICROSOFT-CDO-ALLDAYEVENT:FALSE
SUMMARY:Carl House Mother's day Brunch
DESCRIPTION:We are rolling out the red carpet for ?Mom? this Mother?s Day ... a perfect opportunity to gather with family\, enjoy wonderful cuisine\, experience the charm of Carl House\, and celebrate ?Mom?! Join us Sunday\, May 8\, 2016. Three seating available - 10:00am\, Noon and 2:00pm. Visit www.carlhouse.com/public-events/ to see the menu.
X-ALT-DESC;FMTTYPE=text/html:We are rolling out the red carpet for ?Mom? this Mother?s Day ... a perfect opportunity to gather with family\, enjoy wonderful cuisine\, experience the charm of Carl House\, and celebrate ?Mom?! Join us Sunday\, May 8\, 2016. Three seating available - 10:00am\, Noon and 2:00pm. Visit www.carlhouse.com/public-events/ to see the menu.
LOCATION:Carl House - 1176 Atlanta Highway\, Auburn GA 30011
UID:e.363.5873
SEQUENCE:3
DTSTAMP:20260420T145308Z
URL:https://business.barrowchamber.com/events/details/carl-house-mother-s-day-brunch-05-08-2016-5873
END:VEVENT

END:VCALENDAR
