BEGIN:VCALENDAR
VERSION:2.0
PRODID:-//ChamberMaster//Event Calendar 2.0//EN
METHOD:PUBLISH
X-PUBLISHED-TTL:P3D
REFRESH-INTERVAL:P3D
CALSCALE:GREGORIAN
BEGIN:VEVENT
DTSTART:20160508T140000Z
DTEND:20160508T180000Z
X-MICROSOFT-CDO-ALLDAYEVENT:FALSE
SUMMARY:Carl House Mother's Day Brunch
DESCRIPTION:We are rolling out the red carpet for 'Mom' this Mother's Day ... a perfect opportunity to gather with family\, enjoy wonderful cuisine\, experience the charm of Carl House\, and celebrate 'Mom'!\n\n\n\nJoin us Sunday\, May 8\, 2016. Three seating available - 10:00am\, Noon and 2:00pm.  Visit www.carlhouse.com/public-events/  to see the menu.  Call us or visit our website to make the reservations so we can be sure to set a table just for you and your family! Call 770-586-0095 for reservations by Thursday\, May 5\, 2016.
X-ALT-DESC;FMTTYPE=text/html:<span style="font-size:12.0pt">We are rolling out the red carpet for &lsquo\;Mom&rsquo\; this Mother&rsquo\;s Day ... a perfect opportunity to gather with family\, enjoy wonderful cuisine\, experience the charm of Carl House\, and celebrate &lsquo\;Mom&rsquo\;!</span><br />\n<br />\n<span style="font-size:12.0pt">Join us Sunday\, May 8\, 2016. Three seating available - 10:00am\, Noon and 2:00pm.&nbsp\; Visit </span><a href="http://www.carlhouse.com/public-events/"><span style="font-size:12.0pt">www.carlhouse.com/public-events/</span></a><span style="font-size:12.0pt"> &nbsp\;to see the menu.<span style="color:#342311">&nbsp\; Call us or visit our website to make the reservations so we can be sure to set a table just for you and your family! </span><strong><em>Call 770-586-0095 for reservations by Thursday\, May 5\, 2016.</em></strong></span>
LOCATION:1176 Atlanta Highway\, Auburn GA 30011
UID:e.363.5874
SEQUENCE:3
DTSTAMP:20260420T145329Z
URL:https://business.barrowchamber.com/events/details/carl-house-mother-s-day-brunch-05-08-2016-5874
END:VEVENT

END:VCALENDAR
