BEGIN:VCALENDAR
VERSION:2.0
PRODID:-//ChamberMaster//Event Calendar 2.0//EN
METHOD:PUBLISH
X-PUBLISHED-TTL:P3D
REFRESH-INTERVAL:P3D
CALSCALE:GREGORIAN
BEGIN:VEVENT
DTSTART:20170125T163000Z
DTEND:20170125T180000Z
X-MICROSOFT-CDO-ALLDAYEVENT:FALSE
SUMMARY:CHamber 101
DESCRIPTION:Chamber 101 - All new members come to the Chamber with lunch sponsored by Zaxbys and learn all about the Chamber.
X-ALT-DESC;FMTTYPE=text/html:Chamber 101 - All new members come to the Chamber with lunch sponsored by Zaxbys and learn all about the Chamber.
LOCATION:CHamber Office
UID:e.363.6915
SEQUENCE:3
DTSTAMP:20260420T035551Z
URL:https://business.barrowchamber.com/events/details/chamber-101-6915
END:VEVENT

END:VCALENDAR
