BEGIN:VCALENDAR
VERSION:2.0
PRODID:-//ChamberMaster//Event Calendar 2.0//EN
METHOD:PUBLISH
X-PUBLISHED-TTL:P3D
REFRESH-INTERVAL:P3D
CALSCALE:GREGORIAN
BEGIN:VEVENT
DTSTART:20170330T160000Z
DTEND:20170331T160000Z
X-MICROSOFT-CDO-ALLDAYEVENT:FALSE
SUMMARY:Chamber Office will be closed
DESCRIPTION:Chamber office will be closed\,\n\nChamber will be at a GACCE Conference
X-ALT-DESC;FMTTYPE=text/html:Chamber office will be closed\,<br />\nChamber will be at a GACCE Conference
LOCATION:
UID:e.363.6928
SEQUENCE:3
DTSTAMP:20260420T010048Z
URL:https://business.barrowchamber.com/events/details/chamber-office-will-be-closed-6928
END:VEVENT

END:VCALENDAR
