BEGIN:VCALENDAR
VERSION:2.0
PRODID:-//ChamberMaster//Event Calendar 2.0//EN
METHOD:PUBLISH
X-PUBLISHED-TTL:P3D
REFRESH-INTERVAL:P3D
CALSCALE:GREGORIAN
BEGIN:VEVENT
DTSTART:20170614T160000Z
DTEND:20170614T173000Z
X-MICROSOFT-CDO-ALLDAYEVENT:FALSE
SUMMARY:Connect With Local Customers Using Google Search
DESCRIPTION:Exclusive livestream broadcast from Google HQ talking about the changes coming and the tools small businesses can use to make sure their business is found.
X-ALT-DESC;FMTTYPE=text/html:Exclusive livestream broadcast from Google HQ talking about the changes coming and the tools small businesses can use to make sure their business is found.
LOCATION:UGA Small Business Development Center in Athens
UID:e.363.6955
SEQUENCE:3
DTSTAMP:20260419T201804Z
URL:https://business.barrowchamber.com/events/details/connect-with-local-customers-using-google-search-6955
END:VEVENT

END:VCALENDAR
