BEGIN:VCALENDAR
VERSION:2.0
PRODID:-//ChamberMaster//Event Calendar 2.0//EN
METHOD:PUBLISH
X-PUBLISHED-TTL:P3D
REFRESH-INTERVAL:P3D
CALSCALE:GREGORIAN
BEGIN:VEVENT
DTSTART:20161213T123000Z
DTEND:20161213T140000Z
X-MICROSOFT-CDO-ALLDAYEVENT:FALSE
SUMMARY:Eggs & Issues
DESCRIPTION:Eggs & Issues
X-ALT-DESC;FMTTYPE=text/html:Eggs &amp\; Issues
LOCATION:THe Georgia Club
UID:e.363.6901
SEQUENCE:3
DTSTAMP:20260420T034951Z
URL:https://business.barrowchamber.com/events/details/eggs-issues-6901
END:VEVENT

END:VCALENDAR
