BEGIN:VCALENDAR
VERSION:2.0
PRODID:-//ChamberMaster//Event Calendar 2.0//EN
METHOD:PUBLISH
X-PUBLISHED-TTL:P3D
REFRESH-INTERVAL:P3D
CALSCALE:GREGORIAN
BEGIN:VEVENT
DTSTART:20170307T164500Z
DTEND:20170307T180000Z
X-MICROSOFT-CDO-ALLDAYEVENT:FALSE
SUMMARY:First Tuesday Membership meeting
DESCRIPTION:First Tuesday Membership Meeting\n\nSpeaker: Tom Cunningham Chief Economist Metro Atlanta Chamber
X-ALT-DESC;FMTTYPE=text/html:First Tuesday Membership Meeting<br />\nSpeaker: Tom Cunningham Chief Economist Metro Atlanta Chamber
LOCATION:Barrow County Leisure Services
UID:e.363.6922
SEQUENCE:3
DTSTAMP:20260419T234306Z
URL:https://business.barrowchamber.com/events/details/first-tuesday-membership-meeting-6922
END:VEVENT

END:VCALENDAR
