BEGIN:VCALENDAR
VERSION:2.0
PRODID:-//ChamberMaster//Event Calendar 2.0//EN
METHOD:PUBLISH
X-PUBLISHED-TTL:P3D
REFRESH-INTERVAL:P3D
CALSCALE:GREGORIAN
BEGIN:VEVENT
DTSTART;VALUE=DATE:20170110
DTEND;VALUE=DATE:20170111
TRANSP:TRANSPARENT
X-MICROSOFT-CDO-ALLDAYEVENT:TRUE
SUMMARY:First Tuesday Membershp meeting
DESCRIPTION:First Tuesday Membership meeting\n\nGuest Speaker:  Dr. Chris McMichael\,
X-ALT-DESC;FMTTYPE=text/html:First Tuesday Membership meeting<br />\nGuest Speaker:&nbsp\; Dr. Chris McMichael\,
LOCATION:Barrow County Leisure Services
UID:e.363.6910
SEQUENCE:3
DTSTAMP:20260420T025140Z
URL:https://business.barrowchamber.com/events/details/first-tuesday-membershp-meeting-6910
END:VEVENT

END:VCALENDAR
