BEGIN:VCALENDAR
VERSION:2.0
PRODID:-//ChamberMaster//Event Calendar 2.0//EN
METHOD:PUBLISH
X-PUBLISHED-TTL:P3D
REFRESH-INTERVAL:P3D
CALSCALE:GREGORIAN
BEGIN:VEVENT
DTSTART:20160524T123000Z
DTEND:20160524T200000Z
X-MICROSOFT-CDO-ALLDAYEVENT:FALSE
SUMMARY:Golf Tournament
DESCRIPTION:Barrow County 16th Annual\n\nGolf Tournament @ The Legends
X-ALT-DESC;FMTTYPE=text/html:Barrow County 16th Annual<br />\nGolf Tournament @ The Legends
LOCATION:The Legends at Chateau Elan
UID:e.363.5868
SEQUENCE:3
DTSTAMP:20260420T160839Z
URL:https://business.barrowchamber.com/events/details/golf-tournament-05-24-2016-5868
END:VEVENT

END:VCALENDAR
