BEGIN:VCALENDAR
VERSION:2.0
PRODID:-//ChamberMaster//Event Calendar 2.0//EN
METHOD:PUBLISH
X-PUBLISHED-TTL:P3D
REFRESH-INTERVAL:P3D
CALSCALE:GREGORIAN
BEGIN:VEVENT
DTSTART:20170604T170000Z
DTEND:20170604T200000Z
X-MICROSOFT-CDO-ALLDAYEVENT:FALSE
SUMMARY:JOB FAIR -Amphitheater
DESCRIPTION:JOB FAIR for new Innovation Amphitheater\n\nto hire ushers\, ticket takers\, concessions staff\, security\,\n\nFood service and box office
X-ALT-DESC;FMTTYPE=text/html:JOB FAIR for new Innovation Amphitheater<br />\nto hire ushers\, ticket takers\, concessions staff\, security\,<br />\nFood service and box office
LOCATION:985 Austin Rd\, Winder\, GA
UID:e.363.6941
SEQUENCE:3
DTSTAMP:20260419T201232Z
URL:https://business.barrowchamber.com/events/details/job-fair-amphitheater-6941
END:VEVENT

END:VCALENDAR
