BEGIN:VCALENDAR
VERSION:2.0
PRODID:-//ChamberMaster//Event Calendar 2.0//EN
METHOD:PUBLISH
X-PUBLISHED-TTL:P3D
REFRESH-INTERVAL:P3D
CALSCALE:GREGORIAN
BEGIN:VEVENT
DTSTART;VALUE=DATE:20170215
DTEND;VALUE=DATE:20170216
TRANSP:TRANSPARENT
X-MICROSOFT-CDO-ALLDAYEVENT:TRUE
SUMMARY:Ladies Lunch at Medlink Healthcare for Women
DESCRIPTION:Light lunch for "just girls"\n\nMedlink Georgia Healthcare for Women
X-ALT-DESC;FMTTYPE=text/html:Light lunch for &quot\;just girls&quot\;<br />\nMedlink Georgia Healthcare for Women
LOCATION:137 W. Athens Street\, Suite 103 Winder\, Ga.
UID:e.363.6925
SEQUENCE:3
DTSTAMP:20260420T010501Z
URL:https://business.barrowchamber.com/events/details/ladies-lunch-at-medlink-healthcare-for-women-6925
END:VEVENT

END:VCALENDAR
