BEGIN:VCALENDAR
VERSION:2.0
PRODID:-//ChamberMaster//Event Calendar 2.0//EN
METHOD:PUBLISH
X-PUBLISHED-TTL:P3D
REFRESH-INTERVAL:P3D
CALSCALE:GREGORIAN
BEGIN:VEVENT
DTSTART;VALUE=DATE:20170128
DTEND;VALUE=DATE:20170129
TRANSP:TRANSPARENT
X-MICROSOFT-CDO-ALLDAYEVENT:TRUE
SUMMARY:Literacy Ball - A Novel Affair 2017
DESCRIPTION:Our 24th Annual Literacy Ball - A Novel Affair - will be held at the Winder Community Center located at 113 East Athens Street in Winder. Hors d'euvres at 6:30\, Dinner at 7:00\, Live music and Raffle from 8:00 - 11:00. Catering will be by The Georgia Club\, the cash bar will be by Top Dawg Tavern\, with live music by Back in Time Band. Funds raised by the Literacy Ball and grant sources have created computer labs\, started new classes\, hired staff\, and purchased testing equipment. More than 11\,000 students have been supported by Adult Litarcy Barrow since 1993.
X-ALT-DESC;FMTTYPE=text/html:Our <strong><em>24th Annual Literacy Ball</em></strong> - <em><strong>A Novel Affair</strong></em> - will be held at the Winder Community Center located at 113 East Athens Street in Winder. Hors d&#39\;euvres at 6:30\, Dinner at 7:00\, Live music and Raffle from 8:00 - 11:00. Catering will be by <strong>The Georgia Club</strong>\, the cash bar will be by <strong>Top Dawg Tavern</strong>\, with live music by <strong>Back in Time Band</strong>. Funds raised by the Literacy Ball and grant sources have created computer labs\, started new classes\, hired staff\, and purchased testing equipment. More than 11\,000 students have been supported by Adult Litarcy Barrow since 1993.
LOCATION:Winder Community Center 113 East Athens Street\, Winder
UID:e.363.6904
SEQUENCE:3
DTSTAMP:20260420T040643Z
URL:https://business.barrowchamber.com/events/details/literacy-ball-a-novel-affair-2017-6904
END:VEVENT

END:VCALENDAR
