BEGIN:VCALENDAR
VERSION:2.0
PRODID:-//ChamberMaster//Event Calendar 2.0//EN
METHOD:PUBLISH
X-PUBLISHED-TTL:P3D
REFRESH-INTERVAL:P3D
CALSCALE:GREGORIAN
BEGIN:VEVENT
DTSTART:20170217T140000Z
DTEND:20170217T150000Z
X-MICROSOFT-CDO-ALLDAYEVENT:FALSE
SUMMARY:Network Barrow
DESCRIPTION:Network Barrow
X-ALT-DESC;FMTTYPE=text/html:Network Barrow
LOCATION:Bentley's Butcher Shop 105 E. May Street\, Winder
UID:e.363.5338
SEQUENCE:3
DTSTAMP:20260420T005914Z
URL:https://business.barrowchamber.com/events/details/network-barrow-02-17-2017-5338
END:VEVENT

END:VCALENDAR
