BEGIN:VCALENDAR
VERSION:2.0
PRODID:-//ChamberMaster//Event Calendar 2.0//EN
METHOD:PUBLISH
X-PUBLISHED-TTL:P3D
REFRESH-INTERVAL:P3D
CALSCALE:GREGORIAN
BEGIN:VEVENT
DTSTART:20170623T130000Z
DTEND:20170623T140000Z
X-MICROSOFT-CDO-ALLDAYEVENT:FALSE
SUMMARY:Network Barrow
DESCRIPTION:Network Barrow at the New Amphitheater
X-ALT-DESC;FMTTYPE=text/html:Network Barrow at the New Amphitheater
LOCATION:985 Austin Rd. Behind Sims Academy
UID:e.363.5356
SEQUENCE:3
DTSTAMP:20260419T201622Z
URL:https://business.barrowchamber.com/events/details/network-barrow-06-23-2017-5356
END:VEVENT

END:VCALENDAR
