BEGIN:VCALENDAR
VERSION:2.0
PRODID:-//ChamberMaster//Event Calendar 2.0//EN
METHOD:PUBLISH
X-PUBLISHED-TTL:P3D
REFRESH-INTERVAL:P3D
CALSCALE:GREGORIAN
BEGIN:VEVENT
DTSTART:20160812T130000Z
DTEND:20160812T140000Z
X-MICROSOFT-CDO-ALLDAYEVENT:FALSE
SUMMARY:Network Barrow
DESCRIPTION:Network Barrow
X-ALT-DESC;FMTTYPE=text/html:Network Barrow
LOCATION:Chamber Office #6 Porter Street
UID:e.363.5311
SEQUENCE:3
DTSTAMP:20260420T094554Z
URL:https://business.barrowchamber.com/events/details/network-barrow-08-12-2016-5311
END:VEVENT

END:VCALENDAR
