BEGIN:VCALENDAR
VERSION:2.0
PRODID:-//ChamberMaster//Event Calendar 2.0//EN
METHOD:PUBLISH
X-PUBLISHED-TTL:P3D
REFRESH-INTERVAL:P3D
CALSCALE:GREGORIAN
BEGIN:VEVENT
DTSTART:20130913T130000Z
DTEND:20130913T140000Z
X-MICROSOFT-CDO-ALLDAYEVENT:FALSE
SUMMARY:Network Barrow
DESCRIPTION:Network Barrow\n\nFastest Hour to pass leads
X-ALT-DESC;FMTTYPE=text/html:Network Barrow<br />\nFastest Hour to pass leads
LOCATION:Chamber Office
UID:e.363.5132
SEQUENCE:3
DTSTAMP:20260426T001453Z
URL:https://business.barrowchamber.com/events/details/network-barrow-09-13-2013-5132
END:VEVENT

END:VCALENDAR
