BEGIN:VCALENDAR
VERSION:2.0
PRODID:-//ChamberMaster//Event Calendar 2.0//EN
METHOD:PUBLISH
X-PUBLISHED-TTL:P3D
REFRESH-INTERVAL:P3D
CALSCALE:GREGORIAN
BEGIN:VEVENT
DTSTART:20151113T140000Z
DTEND:20151113T150000Z
X-MICROSOFT-CDO-ALLDAYEVENT:FALSE
SUMMARY:Network Barrow
DESCRIPTION:Network Barrow
X-ALT-DESC;FMTTYPE=text/html:Network Barrow
LOCATION:Chamber Office #6 Porter Street
UID:e.363.5272
SEQUENCE:3
DTSTAMP:20260424T031218Z
URL:https://business.barrowchamber.com/events/details/network-barrow-11-13-2015-5272
END:VEVENT

END:VCALENDAR
