BEGIN:VCALENDAR
VERSION:2.0
PRODID:-//ChamberMaster//Event Calendar 2.0//EN
METHOD:PUBLISH
X-PUBLISHED-TTL:P3D
REFRESH-INTERVAL:P3D
CALSCALE:GREGORIAN
BEGIN:VEVENT
DTSTART:20170131T164500Z
DTEND:20170131T173000Z
X-MICROSOFT-CDO-ALLDAYEVENT:FALSE
SUMMARY:Ribbon Cutting - Farmers Insuranace
DESCRIPTION:Ribbon Cutting - Farmers Insurance
X-ALT-DESC;FMTTYPE=text/html:Ribbon Cutting - Farmers Insurance<br />\n<br />\n&nbsp\;
LOCATION:108 E. May Street\, Winder
UID:e.363.6916
SEQUENCE:3
DTSTAMP:20260420T040057Z
URL:https://business.barrowchamber.com/events/details/ribbon-cutting-farmers-insuranace-6916
END:VEVENT

END:VCALENDAR
