BEGIN:VCALENDAR
VERSION:2.0
PRODID:-//ChamberMaster//Event Calendar 2.0//EN
METHOD:PUBLISH
X-PUBLISHED-TTL:P3D
REFRESH-INTERVAL:P3D
CALSCALE:GREGORIAN
BEGIN:VEVENT
DTSTART:20170321T153000Z
DTEND:20170321T160000Z
X-MICROSOFT-CDO-ALLDAYEVENT:FALSE
SUMMARY:Ribbon Cutting - Gateway Gardens LLC Senior Living
DESCRIPTION:Ribbon Cutting\n\nGateway Gardens LLC Senior Living
X-ALT-DESC;FMTTYPE=text/html:Ribbon Cutting<br />\nGateway Gardens LLC Senior Living
LOCATION:138 Gateway Drive Bethlehem\, Ga.
UID:e.363.6930
SEQUENCE:3
DTSTAMP:20260419T234759Z
URL:https://business.barrowchamber.com/events/details/ribbon-cutting-gateway-gardens-llc-senior-living-6930
END:VEVENT

END:VCALENDAR
