BEGIN:VCALENDAR
VERSION:2.0
PRODID:-//ChamberMaster//Event Calendar 2.0//EN
METHOD:PUBLISH
X-PUBLISHED-TTL:P3D
REFRESH-INTERVAL:P3D
CALSCALE:GREGORIAN
BEGIN:VEVENT
DTSTART:20161027T210000Z
DTEND:20161027T230000Z
X-MICROSOFT-CDO-ALLDAYEVENT:FALSE
SUMMARY:Ribbon Cutting - Open House Vision Eye Source/Farmers
DESCRIPTION:Ribbon Cutting/Open House\n\nVision Eye Source and Farmer's
X-ALT-DESC;FMTTYPE=text/html:Ribbon Cutting/Open House<br />\nVision Eye Source and Farmer&#39\;s
LOCATION:
UID:e.363.6895
SEQUENCE:3
DTSTAMP:20260420T065107Z
URL:https://business.barrowchamber.com/events/details/ribbon-cutting-open-house-vision-eye-source-farmers-6895
END:VEVENT

END:VCALENDAR
