BEGIN:VCALENDAR
VERSION:2.0
PRODID:-//ChamberMaster//Event Calendar 2.0//EN
METHOD:PUBLISH
X-PUBLISHED-TTL:P3D
REFRESH-INTERVAL:P3D
CALSCALE:GREGORIAN
BEGIN:VEVENT
DTSTART:20170203T160000Z
DTEND:20170203T170000Z
X-MICROSOFT-CDO-ALLDAYEVENT:FALSE
SUMMARY:Ribbon Cutting - Reboot Computer Company
DESCRIPTION:Ribbon Cutting - Reboot Computer Company
X-ALT-DESC;FMTTYPE=text/html:Ribbon Cutting - Reboot Computer Company<br />\n&nbsp\;
LOCATION:108 E. May Street Winder\, Ga 30680
UID:e.363.6921
SEQUENCE:3
DTSTAMP:20260420T010216Z
URL:https://business.barrowchamber.com/events/details/ribbon-cutting-reboot-computer-company-6921
END:VEVENT

END:VCALENDAR
