BEGIN:VCALENDAR
VERSION:2.0
PRODID:-//ChamberMaster//Event Calendar 2.0//EN
METHOD:PUBLISH
X-PUBLISHED-TTL:P3D
REFRESH-INTERVAL:P3D
CALSCALE:GREGORIAN
BEGIN:VEVENT
DTSTART:20160830T203000Z
DTEND:20160830T210000Z
X-MICROSOFT-CDO-ALLDAYEVENT:FALSE
SUMMARY:Ribbon Cutting - Russell Middle School
DESCRIPTION:Ribbon Cutting - Russell Middle School
X-ALT-DESC;FMTTYPE=text/html:Ribbon Cutting - Russell Middle School
LOCATION:
UID:e.363.5888
SEQUENCE:3
DTSTAMP:20260420T114646Z
URL:https://business.barrowchamber.com/events/details/ribbon-cutting-russell-middle-school-08-30-2016-5888
END:VEVENT

END:VCALENDAR
