BEGIN:VCALENDAR
VERSION:2.0
PRODID:-//ChamberMaster//Event Calendar 2.0//EN
METHOD:PUBLISH
X-PUBLISHED-TTL:P3D
REFRESH-INTERVAL:P3D
CALSCALE:GREGORIAN
BEGIN:VEVENT
DTSTART:20160531T153000Z
DTEND:20160531T170000Z
X-MICROSOFT-CDO-ALLDAYEVENT:FALSE
SUMMARY:Women in Business
DESCRIPTION:Women In Business\n\nMayor Blechinger is the Speaker
X-ALT-DESC;FMTTYPE=text/html:Women In Business<br />\nMayor Blechinger is the Speaker
LOCATION:Barrow Regional Medical Center
UID:e.363.5869
SEQUENCE:3
DTSTAMP:20260420T145200Z
URL:https://business.barrowchamber.com/events/details/women-in-business-05-31-2016-5869
END:VEVENT

END:VCALENDAR
