BEGIN:VCALENDAR
VERSION:2.0
PRODID:-//ChamberMaster//Event Calendar 2.0//EN
METHOD:PUBLISH
X-PUBLISHED-TTL:P3D
REFRESH-INTERVAL:P3D
CALSCALE:GREGORIAN
BEGIN:VEVENT
DTSTART:20160628T153000Z
DTEND:20160628T170000Z
X-MICROSOFT-CDO-ALLDAYEVENT:FALSE
SUMMARY:Women in Business
DESCRIPTION:Women in Business\n\nBelk will be sponsoring a Fashion Show
X-ALT-DESC;FMTTYPE=text/html:Women in Business<br />\nBelk will be sponsoring a Fashion Show
LOCATION:
UID:e.363.5880
SEQUENCE:3
DTSTAMP:20260420T145043Z
URL:https://business.barrowchamber.com/events/details/women-in-business-06-28-2016-5880
END:VEVENT

END:VCALENDAR
